BEGIN:VCALENDAR
VERSION:2.0
PRODID:-//Against the Odds Recovery and Reentry - ECPv6.15.17.1//NONSGML v1.0//EN
CALSCALE:GREGORIAN
METHOD:PUBLISH
X-ORIGINAL-URL:https://atoministries.org
X-WR-CALDESC:Events for Against the Odds Recovery and Reentry
REFRESH-INTERVAL;VALUE=DURATION:PT1H
X-Robots-Tag:noindex
X-PUBLISHED-TTL:PT1H
BEGIN:VTIMEZONE
TZID:America/Chicago
BEGIN:DAYLIGHT
TZOFFSETFROM:-0600
TZOFFSETTO:-0500
TZNAME:CDT
DTSTART:20270314T080000
END:DAYLIGHT
BEGIN:STANDARD
TZOFFSETFROM:-0500
TZOFFSETTO:-0600
TZNAME:CST
DTSTART:20271107T070000
END:STANDARD
BEGIN:DAYLIGHT
TZOFFSETFROM:-0600
TZOFFSETTO:-0500
TZNAME:CDT
DTSTART:20280312T080000
END:DAYLIGHT
BEGIN:STANDARD
TZOFFSETFROM:-0500
TZOFFSETTO:-0600
TZNAME:CST
DTSTART:20281105T070000
END:STANDARD
BEGIN:DAYLIGHT
TZOFFSETFROM:-0600
TZOFFSETTO:-0500
TZNAME:CDT
DTSTART:20290311T080000
END:DAYLIGHT
BEGIN:STANDARD
TZOFFSETFROM:-0500
TZOFFSETTO:-0600
TZNAME:CST
DTSTART:20291104T070000
END:STANDARD
BEGIN:DAYLIGHT
TZOFFSETFROM:-0600
TZOFFSETTO:-0500
TZNAME:CDT
DTSTART:20300310T080000
END:DAYLIGHT
BEGIN:STANDARD
TZOFFSETFROM:-0500
TZOFFSETTO:-0600
TZNAME:CST
DTSTART:20301103T070000
END:STANDARD
END:VTIMEZONE
BEGIN:VEVENT
DTSTART;TZID=America/Chicago:20281021T080000
DTEND;TZID=America/Chicago:20281021T100000
DTSTAMP:20260417T032824
CREATED:20250105T231524Z
LAST-MODIFIED:20250105T231524Z
UID:10001792-1855728000-1855735200@atoministries.org
SUMMARY:Reentry Breakfast
DESCRIPTION:
URL:https://atoministries.org/event/reentry-breakfast/2028-10-21/
LOCATION:Westwood Community Church-Bush Lake Campus\, 6301 Cecilia Circle\, Edina\, 55439\, United States
END:VEVENT
BEGIN:VEVENT
DTSTART;TZID=America/Chicago:20281118T080000
DTEND;TZID=America/Chicago:20281118T100000
DTSTAMP:20260417T032824
CREATED:20250105T231524Z
LAST-MODIFIED:20250105T231524Z
UID:10001793-1858147200-1858154400@atoministries.org
SUMMARY:Reentry Breakfast
DESCRIPTION:
URL:https://atoministries.org/event/reentry-breakfast/2028-11-18/
LOCATION:Westwood Community Church-Bush Lake Campus\, 6301 Cecilia Circle\, Edina\, 55439\, United States
END:VEVENT
BEGIN:VEVENT
DTSTART;TZID=America/Chicago:20281216T080000
DTEND;TZID=America/Chicago:20281216T100000
DTSTAMP:20260417T032824
CREATED:20250105T231524Z
LAST-MODIFIED:20250105T231524Z
UID:10001794-1860566400-1860573600@atoministries.org
SUMMARY:Reentry Breakfast
DESCRIPTION:
URL:https://atoministries.org/event/reentry-breakfast/2028-12-16/
LOCATION:Westwood Community Church-Bush Lake Campus\, 6301 Cecilia Circle\, Edina\, 55439\, United States
END:VEVENT
BEGIN:VEVENT
DTSTART;TZID=America/Chicago:20290120T080000
DTEND;TZID=America/Chicago:20290120T100000
DTSTAMP:20260417T032824
CREATED:20250105T231524Z
LAST-MODIFIED:20250105T231524Z
UID:10001795-1863590400-1863597600@atoministries.org
SUMMARY:Reentry Breakfast
DESCRIPTION:
URL:https://atoministries.org/event/reentry-breakfast/2029-01-20/
LOCATION:Westwood Community Church-Bush Lake Campus\, 6301 Cecilia Circle\, Edina\, 55439\, United States
END:VEVENT
BEGIN:VEVENT
DTSTART;TZID=America/Chicago:20290217T080000
DTEND;TZID=America/Chicago:20290217T100000
DTSTAMP:20260417T032824
CREATED:20250105T231524Z
LAST-MODIFIED:20250105T231524Z
UID:10001796-1866009600-1866016800@atoministries.org
SUMMARY:Reentry Breakfast
DESCRIPTION:
URL:https://atoministries.org/event/reentry-breakfast/2029-02-17/
LOCATION:Westwood Community Church-Bush Lake Campus\, 6301 Cecilia Circle\, Edina\, 55439\, United States
END:VEVENT
BEGIN:VEVENT
DTSTART;TZID=America/Chicago:20290317T080000
DTEND;TZID=America/Chicago:20290317T100000
DTSTAMP:20260417T032824
CREATED:20250105T231524Z
LAST-MODIFIED:20250105T231524Z
UID:10001797-1868428800-1868436000@atoministries.org
SUMMARY:Reentry Breakfast
DESCRIPTION:
URL:https://atoministries.org/event/reentry-breakfast/2029-03-17/
LOCATION:Westwood Community Church-Bush Lake Campus\, 6301 Cecilia Circle\, Edina\, 55439\, United States
END:VEVENT
BEGIN:VEVENT
DTSTART;TZID=America/Chicago:20290421T080000
DTEND;TZID=America/Chicago:20290421T100000
DTSTAMP:20260417T032824
CREATED:20250105T231524Z
LAST-MODIFIED:20250105T231524Z
UID:10001798-1871452800-1871460000@atoministries.org
SUMMARY:Reentry Breakfast
DESCRIPTION:
URL:https://atoministries.org/event/reentry-breakfast/2029-04-21/
LOCATION:Westwood Community Church-Bush Lake Campus\, 6301 Cecilia Circle\, Edina\, 55439\, United States
END:VEVENT
BEGIN:VEVENT
DTSTART;TZID=America/Chicago:20290519T080000
DTEND;TZID=America/Chicago:20290519T100000
DTSTAMP:20260417T032824
CREATED:20250105T231524Z
LAST-MODIFIED:20250105T231524Z
UID:10001799-1873872000-1873879200@atoministries.org
SUMMARY:Reentry Breakfast
DESCRIPTION:
URL:https://atoministries.org/event/reentry-breakfast/2029-05-19/
LOCATION:Westwood Community Church-Bush Lake Campus\, 6301 Cecilia Circle\, Edina\, 55439\, United States
END:VEVENT
BEGIN:VEVENT
DTSTART;TZID=America/Chicago:20290616T080000
DTEND;TZID=America/Chicago:20290616T100000
DTSTAMP:20260417T032824
CREATED:20250105T231524Z
LAST-MODIFIED:20250105T231524Z
UID:10001800-1876291200-1876298400@atoministries.org
SUMMARY:Reentry Breakfast
DESCRIPTION:
URL:https://atoministries.org/event/reentry-breakfast/2029-06-16/
LOCATION:Westwood Community Church-Bush Lake Campus\, 6301 Cecilia Circle\, Edina\, 55439\, United States
END:VEVENT
BEGIN:VEVENT
DTSTART;TZID=America/Chicago:20290721T080000
DTEND;TZID=America/Chicago:20290721T100000
DTSTAMP:20260417T032824
CREATED:20250105T231524Z
LAST-MODIFIED:20250105T231524Z
UID:10001801-1879315200-1879322400@atoministries.org
SUMMARY:Reentry Breakfast
DESCRIPTION:
URL:https://atoministries.org/event/reentry-breakfast/2029-07-21/
LOCATION:Westwood Community Church-Bush Lake Campus\, 6301 Cecilia Circle\, Edina\, 55439\, United States
END:VEVENT
BEGIN:VEVENT
DTSTART;TZID=America/Chicago:20290818T080000
DTEND;TZID=America/Chicago:20290818T100000
DTSTAMP:20260417T032824
CREATED:20250105T231524Z
LAST-MODIFIED:20250105T231524Z
UID:10001802-1881734400-1881741600@atoministries.org
SUMMARY:Reentry Breakfast
DESCRIPTION:
URL:https://atoministries.org/event/reentry-breakfast/2029-08-18/
LOCATION:Westwood Community Church-Bush Lake Campus\, 6301 Cecilia Circle\, Edina\, 55439\, United States
END:VEVENT
BEGIN:VEVENT
DTSTART;TZID=America/Chicago:20290915T080000
DTEND;TZID=America/Chicago:20290915T100000
DTSTAMP:20260417T032824
CREATED:20250105T231524Z
LAST-MODIFIED:20250105T231524Z
UID:10001803-1884153600-1884160800@atoministries.org
SUMMARY:Reentry Breakfast
DESCRIPTION:
URL:https://atoministries.org/event/reentry-breakfast/2029-09-15/
LOCATION:Westwood Community Church-Bush Lake Campus\, 6301 Cecilia Circle\, Edina\, 55439\, United States
END:VEVENT
BEGIN:VEVENT
DTSTART;TZID=America/Chicago:20291020T080000
DTEND;TZID=America/Chicago:20291020T100000
DTSTAMP:20260417T032824
CREATED:20250105T231524Z
LAST-MODIFIED:20250105T231524Z
UID:10001804-1887177600-1887184800@atoministries.org
SUMMARY:Reentry Breakfast
DESCRIPTION:
URL:https://atoministries.org/event/reentry-breakfast/2029-10-20/
LOCATION:Westwood Community Church-Bush Lake Campus\, 6301 Cecilia Circle\, Edina\, 55439\, United States
END:VEVENT
BEGIN:VEVENT
DTSTART;TZID=America/Chicago:20291117T080000
DTEND;TZID=America/Chicago:20291117T100000
DTSTAMP:20260417T032824
CREATED:20250105T231524Z
LAST-MODIFIED:20250105T231524Z
UID:10001805-1889596800-1889604000@atoministries.org
SUMMARY:Reentry Breakfast
DESCRIPTION:
URL:https://atoministries.org/event/reentry-breakfast/2029-11-17/
LOCATION:Westwood Community Church-Bush Lake Campus\, 6301 Cecilia Circle\, Edina\, 55439\, United States
END:VEVENT
BEGIN:VEVENT
DTSTART;TZID=America/Chicago:20291215T080000
DTEND;TZID=America/Chicago:20291215T100000
DTSTAMP:20260417T032824
CREATED:20250105T231524Z
LAST-MODIFIED:20250105T231524Z
UID:10001806-1892016000-1892023200@atoministries.org
SUMMARY:Reentry Breakfast
DESCRIPTION:
URL:https://atoministries.org/event/reentry-breakfast/2029-12-15/
LOCATION:Westwood Community Church-Bush Lake Campus\, 6301 Cecilia Circle\, Edina\, 55439\, United States
END:VEVENT
END:VCALENDAR