BEGIN:VCALENDAR
VERSION:2.0
PRODID:-//Against the Odds Recovery and Reentry - ECPv6.15.17.1//NONSGML v1.0//EN
CALSCALE:GREGORIAN
METHOD:PUBLISH
X-WR-CALNAME:Against the Odds Recovery and Reentry
X-ORIGINAL-URL:https://atoministries.org
X-WR-CALDESC:Events for Against the Odds Recovery and Reentry
REFRESH-INTERVAL;VALUE=DURATION:PT1H
X-Robots-Tag:noindex
X-PUBLISHED-TTL:PT1H
BEGIN:VTIMEZONE
TZID:America/Chicago
BEGIN:DAYLIGHT
TZOFFSETFROM:-0600
TZOFFSETTO:-0500
TZNAME:CDT
DTSTART:20260308T080000
END:DAYLIGHT
BEGIN:STANDARD
TZOFFSETFROM:-0500
TZOFFSETTO:-0600
TZNAME:CST
DTSTART:20261101T070000
END:STANDARD
BEGIN:DAYLIGHT
TZOFFSETFROM:-0600
TZOFFSETTO:-0500
TZNAME:CDT
DTSTART:20270314T080000
END:DAYLIGHT
BEGIN:STANDARD
TZOFFSETFROM:-0500
TZOFFSETTO:-0600
TZNAME:CST
DTSTART:20271107T070000
END:STANDARD
BEGIN:DAYLIGHT
TZOFFSETFROM:-0600
TZOFFSETTO:-0500
TZNAME:CDT
DTSTART:20280312T080000
END:DAYLIGHT
BEGIN:STANDARD
TZOFFSETFROM:-0500
TZOFFSETTO:-0600
TZNAME:CST
DTSTART:20281105T070000
END:STANDARD
BEGIN:DAYLIGHT
TZOFFSETFROM:-0600
TZOFFSETTO:-0500
TZNAME:CDT
DTSTART:20290311T080000
END:DAYLIGHT
BEGIN:STANDARD
TZOFFSETFROM:-0500
TZOFFSETTO:-0600
TZNAME:CST
DTSTART:20291104T070000
END:STANDARD
BEGIN:DAYLIGHT
TZOFFSETFROM:-0600
TZOFFSETTO:-0500
TZNAME:CDT
DTSTART:20300310T080000
END:DAYLIGHT
BEGIN:STANDARD
TZOFFSETFROM:-0500
TZOFFSETTO:-0600
TZNAME:CST
DTSTART:20301103T070000
END:STANDARD
END:VTIMEZONE
BEGIN:VEVENT
DTSTART;TZID=America/Chicago:20270220T080000
DTEND;TZID=America/Chicago:20270220T100000
DTSTAMP:20260416T145359
CREATED:20250105T231524Z
LAST-MODIFIED:20250105T231524Z
UID:10001772-1803110400-1803117600@atoministries.org
SUMMARY:Reentry Breakfast
DESCRIPTION:
URL:https://atoministries.org/event/reentry-breakfast/2027-02-20/
LOCATION:Westwood Community Church-Bush Lake Campus\, 6301 Cecilia Circle\, Edina\, 55439\, United States
END:VEVENT
BEGIN:VEVENT
DTSTART;TZID=America/Chicago:20270320T080000
DTEND;TZID=America/Chicago:20270320T100000
DTSTAMP:20260416T145359
CREATED:20250105T231524Z
LAST-MODIFIED:20250105T231524Z
UID:10001773-1805529600-1805536800@atoministries.org
SUMMARY:Reentry Breakfast
DESCRIPTION:
URL:https://atoministries.org/event/reentry-breakfast/2027-03-20/
LOCATION:Westwood Community Church-Bush Lake Campus\, 6301 Cecilia Circle\, Edina\, 55439\, United States
END:VEVENT
BEGIN:VEVENT
DTSTART;TZID=America/Chicago:20270417T080000
DTEND;TZID=America/Chicago:20270417T100000
DTSTAMP:20260416T145359
CREATED:20250105T231524Z
LAST-MODIFIED:20250105T231524Z
UID:10001774-1807948800-1807956000@atoministries.org
SUMMARY:Reentry Breakfast
DESCRIPTION:
URL:https://atoministries.org/event/reentry-breakfast/2027-04-17/
LOCATION:Westwood Community Church-Bush Lake Campus\, 6301 Cecilia Circle\, Edina\, 55439\, United States
END:VEVENT
BEGIN:VEVENT
DTSTART;TZID=America/Chicago:20270515T080000
DTEND;TZID=America/Chicago:20270515T100000
DTSTAMP:20260416T145359
CREATED:20250105T231524Z
LAST-MODIFIED:20250105T231524Z
UID:10001775-1810368000-1810375200@atoministries.org
SUMMARY:Reentry Breakfast
DESCRIPTION:
URL:https://atoministries.org/event/reentry-breakfast/2027-05-15/
LOCATION:Westwood Community Church-Bush Lake Campus\, 6301 Cecilia Circle\, Edina\, 55439\, United States
END:VEVENT
BEGIN:VEVENT
DTSTART;TZID=America/Chicago:20270619T080000
DTEND;TZID=America/Chicago:20270619T100000
DTSTAMP:20260416T145359
CREATED:20250105T231524Z
LAST-MODIFIED:20250105T231524Z
UID:10001776-1813392000-1813399200@atoministries.org
SUMMARY:Reentry Breakfast
DESCRIPTION:
URL:https://atoministries.org/event/reentry-breakfast/2027-06-19/
LOCATION:Westwood Community Church-Bush Lake Campus\, 6301 Cecilia Circle\, Edina\, 55439\, United States
END:VEVENT
BEGIN:VEVENT
DTSTART;TZID=America/Chicago:20270717T080000
DTEND;TZID=America/Chicago:20270717T100000
DTSTAMP:20260416T145359
CREATED:20250105T231524Z
LAST-MODIFIED:20250105T231524Z
UID:10001777-1815811200-1815818400@atoministries.org
SUMMARY:Reentry Breakfast
DESCRIPTION:
URL:https://atoministries.org/event/reentry-breakfast/2027-07-17/
LOCATION:Westwood Community Church-Bush Lake Campus\, 6301 Cecilia Circle\, Edina\, 55439\, United States
END:VEVENT
BEGIN:VEVENT
DTSTART;TZID=America/Chicago:20270821T080000
DTEND;TZID=America/Chicago:20270821T100000
DTSTAMP:20260416T145359
CREATED:20250105T231524Z
LAST-MODIFIED:20250105T231524Z
UID:10001778-1818835200-1818842400@atoministries.org
SUMMARY:Reentry Breakfast
DESCRIPTION:
URL:https://atoministries.org/event/reentry-breakfast/2027-08-21/
LOCATION:Westwood Community Church-Bush Lake Campus\, 6301 Cecilia Circle\, Edina\, 55439\, United States
END:VEVENT
BEGIN:VEVENT
DTSTART;TZID=America/Chicago:20270918T080000
DTEND;TZID=America/Chicago:20270918T100000
DTSTAMP:20260416T145359
CREATED:20250105T231524Z
LAST-MODIFIED:20250105T231524Z
UID:10001779-1821254400-1821261600@atoministries.org
SUMMARY:Reentry Breakfast
DESCRIPTION:
URL:https://atoministries.org/event/reentry-breakfast/2027-09-18/
LOCATION:Westwood Community Church-Bush Lake Campus\, 6301 Cecilia Circle\, Edina\, 55439\, United States
END:VEVENT
BEGIN:VEVENT
DTSTART;TZID=America/Chicago:20271016T080000
DTEND;TZID=America/Chicago:20271016T100000
DTSTAMP:20260416T145359
CREATED:20250105T231524Z
LAST-MODIFIED:20250105T231524Z
UID:10001780-1823673600-1823680800@atoministries.org
SUMMARY:Reentry Breakfast
DESCRIPTION:
URL:https://atoministries.org/event/reentry-breakfast/2027-10-16/
LOCATION:Westwood Community Church-Bush Lake Campus\, 6301 Cecilia Circle\, Edina\, 55439\, United States
END:VEVENT
BEGIN:VEVENT
DTSTART;TZID=America/Chicago:20271120T080000
DTEND;TZID=America/Chicago:20271120T100000
DTSTAMP:20260416T145359
CREATED:20250105T231524Z
LAST-MODIFIED:20250105T231524Z
UID:10001781-1826697600-1826704800@atoministries.org
SUMMARY:Reentry Breakfast
DESCRIPTION:
URL:https://atoministries.org/event/reentry-breakfast/2027-11-20/
LOCATION:Westwood Community Church-Bush Lake Campus\, 6301 Cecilia Circle\, Edina\, 55439\, United States
END:VEVENT
BEGIN:VEVENT
DTSTART;TZID=America/Chicago:20271218T080000
DTEND;TZID=America/Chicago:20271218T100000
DTSTAMP:20260416T145359
CREATED:20250105T231524Z
LAST-MODIFIED:20250105T231524Z
UID:10001782-1829116800-1829124000@atoministries.org
SUMMARY:Reentry Breakfast
DESCRIPTION:
URL:https://atoministries.org/event/reentry-breakfast/2027-12-18/
LOCATION:Westwood Community Church-Bush Lake Campus\, 6301 Cecilia Circle\, Edina\, 55439\, United States
END:VEVENT
BEGIN:VEVENT
DTSTART;TZID=America/Chicago:20280115T080000
DTEND;TZID=America/Chicago:20280115T100000
DTSTAMP:20260416T145359
CREATED:20250105T231524Z
LAST-MODIFIED:20250105T231524Z
UID:10001783-1831536000-1831543200@atoministries.org
SUMMARY:Reentry Breakfast
DESCRIPTION:
URL:https://atoministries.org/event/reentry-breakfast/2028-01-15/
LOCATION:Westwood Community Church-Bush Lake Campus\, 6301 Cecilia Circle\, Edina\, 55439\, United States
END:VEVENT
BEGIN:VEVENT
DTSTART;TZID=America/Chicago:20280219T080000
DTEND;TZID=America/Chicago:20280219T100000
DTSTAMP:20260416T145359
CREATED:20250105T231524Z
LAST-MODIFIED:20250105T231524Z
UID:10001784-1834560000-1834567200@atoministries.org
SUMMARY:Reentry Breakfast
DESCRIPTION:
URL:https://atoministries.org/event/reentry-breakfast/2028-02-19/
LOCATION:Westwood Community Church-Bush Lake Campus\, 6301 Cecilia Circle\, Edina\, 55439\, United States
END:VEVENT
BEGIN:VEVENT
DTSTART;TZID=America/Chicago:20280318T080000
DTEND;TZID=America/Chicago:20280318T100000
DTSTAMP:20260416T145359
CREATED:20250105T231524Z
LAST-MODIFIED:20250105T231524Z
UID:10001785-1836979200-1836986400@atoministries.org
SUMMARY:Reentry Breakfast
DESCRIPTION:
URL:https://atoministries.org/event/reentry-breakfast/2028-03-18/
LOCATION:Westwood Community Church-Bush Lake Campus\, 6301 Cecilia Circle\, Edina\, 55439\, United States
END:VEVENT
BEGIN:VEVENT
DTSTART;TZID=America/Chicago:20280415T080000
DTEND;TZID=America/Chicago:20280415T100000
DTSTAMP:20260416T145359
CREATED:20250105T231524Z
LAST-MODIFIED:20250105T231524Z
UID:10001786-1839398400-1839405600@atoministries.org
SUMMARY:Reentry Breakfast
DESCRIPTION:
URL:https://atoministries.org/event/reentry-breakfast/2028-04-15/
LOCATION:Westwood Community Church-Bush Lake Campus\, 6301 Cecilia Circle\, Edina\, 55439\, United States
END:VEVENT
BEGIN:VEVENT
DTSTART;TZID=America/Chicago:20280520T080000
DTEND;TZID=America/Chicago:20280520T100000
DTSTAMP:20260416T145359
CREATED:20250105T231524Z
LAST-MODIFIED:20250105T231524Z
UID:10001787-1842422400-1842429600@atoministries.org
SUMMARY:Reentry Breakfast
DESCRIPTION:
URL:https://atoministries.org/event/reentry-breakfast/2028-05-20/
LOCATION:Westwood Community Church-Bush Lake Campus\, 6301 Cecilia Circle\, Edina\, 55439\, United States
END:VEVENT
BEGIN:VEVENT
DTSTART;TZID=America/Chicago:20280617T080000
DTEND;TZID=America/Chicago:20280617T100000
DTSTAMP:20260416T145359
CREATED:20250105T231524Z
LAST-MODIFIED:20250105T231524Z
UID:10001788-1844841600-1844848800@atoministries.org
SUMMARY:Reentry Breakfast
DESCRIPTION:
URL:https://atoministries.org/event/reentry-breakfast/2028-06-17/
LOCATION:Westwood Community Church-Bush Lake Campus\, 6301 Cecilia Circle\, Edina\, 55439\, United States
END:VEVENT
BEGIN:VEVENT
DTSTART;TZID=America/Chicago:20280715T080000
DTEND;TZID=America/Chicago:20280715T100000
DTSTAMP:20260416T145359
CREATED:20250105T231524Z
LAST-MODIFIED:20250105T231524Z
UID:10001789-1847260800-1847268000@atoministries.org
SUMMARY:Reentry Breakfast
DESCRIPTION:
URL:https://atoministries.org/event/reentry-breakfast/2028-07-15/
LOCATION:Westwood Community Church-Bush Lake Campus\, 6301 Cecilia Circle\, Edina\, 55439\, United States
END:VEVENT
BEGIN:VEVENT
DTSTART;TZID=America/Chicago:20280819T080000
DTEND;TZID=America/Chicago:20280819T100000
DTSTAMP:20260416T145359
CREATED:20250105T231524Z
LAST-MODIFIED:20250105T231524Z
UID:10001790-1850284800-1850292000@atoministries.org
SUMMARY:Reentry Breakfast
DESCRIPTION:
URL:https://atoministries.org/event/reentry-breakfast/2028-08-19/
LOCATION:Westwood Community Church-Bush Lake Campus\, 6301 Cecilia Circle\, Edina\, 55439\, United States
END:VEVENT
BEGIN:VEVENT
DTSTART;TZID=America/Chicago:20280916T080000
DTEND;TZID=America/Chicago:20280916T100000
DTSTAMP:20260416T145359
CREATED:20250105T231524Z
LAST-MODIFIED:20250105T231524Z
UID:10001791-1852704000-1852711200@atoministries.org
SUMMARY:Reentry Breakfast
DESCRIPTION:
URL:https://atoministries.org/event/reentry-breakfast/2028-09-16/
LOCATION:Westwood Community Church-Bush Lake Campus\, 6301 Cecilia Circle\, Edina\, 55439\, United States
END:VEVENT
BEGIN:VEVENT
DTSTART;TZID=America/Chicago:20281021T080000
DTEND;TZID=America/Chicago:20281021T100000
DTSTAMP:20260416T145359
CREATED:20250105T231524Z
LAST-MODIFIED:20250105T231524Z
UID:10001792-1855728000-1855735200@atoministries.org
SUMMARY:Reentry Breakfast
DESCRIPTION:
URL:https://atoministries.org/event/reentry-breakfast/2028-10-21/
LOCATION:Westwood Community Church-Bush Lake Campus\, 6301 Cecilia Circle\, Edina\, 55439\, United States
END:VEVENT
BEGIN:VEVENT
DTSTART;TZID=America/Chicago:20281118T080000
DTEND;TZID=America/Chicago:20281118T100000
DTSTAMP:20260416T145359
CREATED:20250105T231524Z
LAST-MODIFIED:20250105T231524Z
UID:10001793-1858147200-1858154400@atoministries.org
SUMMARY:Reentry Breakfast
DESCRIPTION:
URL:https://atoministries.org/event/reentry-breakfast/2028-11-18/
LOCATION:Westwood Community Church-Bush Lake Campus\, 6301 Cecilia Circle\, Edina\, 55439\, United States
END:VEVENT
BEGIN:VEVENT
DTSTART;TZID=America/Chicago:20281216T080000
DTEND;TZID=America/Chicago:20281216T100000
DTSTAMP:20260416T145359
CREATED:20250105T231524Z
LAST-MODIFIED:20250105T231524Z
UID:10001794-1860566400-1860573600@atoministries.org
SUMMARY:Reentry Breakfast
DESCRIPTION:
URL:https://atoministries.org/event/reentry-breakfast/2028-12-16/
LOCATION:Westwood Community Church-Bush Lake Campus\, 6301 Cecilia Circle\, Edina\, 55439\, United States
END:VEVENT
BEGIN:VEVENT
DTSTART;TZID=America/Chicago:20290120T080000
DTEND;TZID=America/Chicago:20290120T100000
DTSTAMP:20260416T145359
CREATED:20250105T231524Z
LAST-MODIFIED:20250105T231524Z
UID:10001795-1863590400-1863597600@atoministries.org
SUMMARY:Reentry Breakfast
DESCRIPTION:
URL:https://atoministries.org/event/reentry-breakfast/2029-01-20/
LOCATION:Westwood Community Church-Bush Lake Campus\, 6301 Cecilia Circle\, Edina\, 55439\, United States
END:VEVENT
BEGIN:VEVENT
DTSTART;TZID=America/Chicago:20290217T080000
DTEND;TZID=America/Chicago:20290217T100000
DTSTAMP:20260416T145359
CREATED:20250105T231524Z
LAST-MODIFIED:20250105T231524Z
UID:10001796-1866009600-1866016800@atoministries.org
SUMMARY:Reentry Breakfast
DESCRIPTION:
URL:https://atoministries.org/event/reentry-breakfast/2029-02-17/
LOCATION:Westwood Community Church-Bush Lake Campus\, 6301 Cecilia Circle\, Edina\, 55439\, United States
END:VEVENT
BEGIN:VEVENT
DTSTART;TZID=America/Chicago:20290317T080000
DTEND;TZID=America/Chicago:20290317T100000
DTSTAMP:20260416T145359
CREATED:20250105T231524Z
LAST-MODIFIED:20250105T231524Z
UID:10001797-1868428800-1868436000@atoministries.org
SUMMARY:Reentry Breakfast
DESCRIPTION:
URL:https://atoministries.org/event/reentry-breakfast/2029-03-17/
LOCATION:Westwood Community Church-Bush Lake Campus\, 6301 Cecilia Circle\, Edina\, 55439\, United States
END:VEVENT
BEGIN:VEVENT
DTSTART;TZID=America/Chicago:20290421T080000
DTEND;TZID=America/Chicago:20290421T100000
DTSTAMP:20260416T145359
CREATED:20250105T231524Z
LAST-MODIFIED:20250105T231524Z
UID:10001798-1871452800-1871460000@atoministries.org
SUMMARY:Reentry Breakfast
DESCRIPTION:
URL:https://atoministries.org/event/reentry-breakfast/2029-04-21/
LOCATION:Westwood Community Church-Bush Lake Campus\, 6301 Cecilia Circle\, Edina\, 55439\, United States
END:VEVENT
BEGIN:VEVENT
DTSTART;TZID=America/Chicago:20290519T080000
DTEND;TZID=America/Chicago:20290519T100000
DTSTAMP:20260416T145359
CREATED:20250105T231524Z
LAST-MODIFIED:20250105T231524Z
UID:10001799-1873872000-1873879200@atoministries.org
SUMMARY:Reentry Breakfast
DESCRIPTION:
URL:https://atoministries.org/event/reentry-breakfast/2029-05-19/
LOCATION:Westwood Community Church-Bush Lake Campus\, 6301 Cecilia Circle\, Edina\, 55439\, United States
END:VEVENT
BEGIN:VEVENT
DTSTART;TZID=America/Chicago:20290616T080000
DTEND;TZID=America/Chicago:20290616T100000
DTSTAMP:20260416T145359
CREATED:20250105T231524Z
LAST-MODIFIED:20250105T231524Z
UID:10001800-1876291200-1876298400@atoministries.org
SUMMARY:Reentry Breakfast
DESCRIPTION:
URL:https://atoministries.org/event/reentry-breakfast/2029-06-16/
LOCATION:Westwood Community Church-Bush Lake Campus\, 6301 Cecilia Circle\, Edina\, 55439\, United States
END:VEVENT
BEGIN:VEVENT
DTSTART;TZID=America/Chicago:20290721T080000
DTEND;TZID=America/Chicago:20290721T100000
DTSTAMP:20260416T145359
CREATED:20250105T231524Z
LAST-MODIFIED:20250105T231524Z
UID:10001801-1879315200-1879322400@atoministries.org
SUMMARY:Reentry Breakfast
DESCRIPTION:
URL:https://atoministries.org/event/reentry-breakfast/2029-07-21/
LOCATION:Westwood Community Church-Bush Lake Campus\, 6301 Cecilia Circle\, Edina\, 55439\, United States
END:VEVENT
END:VCALENDAR