BEGIN:VCALENDAR
VERSION:2.0
PRODID:-//Against the Odds Recovery and Reentry - ECPv6.15.17.1//NONSGML v1.0//EN
CALSCALE:GREGORIAN
METHOD:PUBLISH
X-WR-CALNAME:Against the Odds Recovery and Reentry
X-ORIGINAL-URL:https://atoministries.org
X-WR-CALDESC:Events for Against the Odds Recovery and Reentry
REFRESH-INTERVAL;VALUE=DURATION:PT1H
X-Robots-Tag:noindex
X-PUBLISHED-TTL:PT1H
BEGIN:VTIMEZONE
TZID:America/Chicago
BEGIN:DAYLIGHT
TZOFFSETFROM:-0600
TZOFFSETTO:-0500
TZNAME:CDT
DTSTART:20250309T080000
END:DAYLIGHT
BEGIN:STANDARD
TZOFFSETFROM:-0500
TZOFFSETTO:-0600
TZNAME:CST
DTSTART:20251102T070000
END:STANDARD
BEGIN:DAYLIGHT
TZOFFSETFROM:-0600
TZOFFSETTO:-0500
TZNAME:CDT
DTSTART:20260308T080000
END:DAYLIGHT
BEGIN:STANDARD
TZOFFSETFROM:-0500
TZOFFSETTO:-0600
TZNAME:CST
DTSTART:20261101T070000
END:STANDARD
BEGIN:DAYLIGHT
TZOFFSETFROM:-0600
TZOFFSETTO:-0500
TZNAME:CDT
DTSTART:20270314T080000
END:DAYLIGHT
BEGIN:STANDARD
TZOFFSETFROM:-0500
TZOFFSETTO:-0600
TZNAME:CST
DTSTART:20271107T070000
END:STANDARD
END:VTIMEZONE
BEGIN:VEVENT
DTSTART;TZID=America/Chicago:20260422T190000
DTEND;TZID=America/Chicago:20260422T200000
DTSTAMP:20260421T045453
CREATED:20241204T190714Z
LAST-MODIFIED:20241204T190714Z
UID:10001558-1776884400-1776888000@atoministries.org
SUMMARY:All Recovery Meeting
DESCRIPTION:
URL:https://atoministries.org/event/all-recovery-meeting/2026-04-22/
LOCATION:711 Pine St S Waconia\, Minnesota 55387\, 711 Pine St S\, Waconia\, MN\, 55387\, United States
END:VEVENT
BEGIN:VEVENT
DTSTART;TZID=America/Chicago:20260429T190000
DTEND;TZID=America/Chicago:20260429T200000
DTSTAMP:20260421T045453
CREATED:20241204T190714Z
LAST-MODIFIED:20241204T190714Z
UID:10001559-1777489200-1777492800@atoministries.org
SUMMARY:All Recovery Meeting
DESCRIPTION:
URL:https://atoministries.org/event/all-recovery-meeting/2026-04-29/
LOCATION:711 Pine St S Waconia\, Minnesota 55387\, 711 Pine St S\, Waconia\, MN\, 55387\, United States
END:VEVENT
BEGIN:VEVENT
DTSTART;TZID=America/Chicago:20260506T190000
DTEND;TZID=America/Chicago:20260506T200000
DTSTAMP:20260421T045453
CREATED:20241204T190714Z
LAST-MODIFIED:20241204T190714Z
UID:10001560-1778094000-1778097600@atoministries.org
SUMMARY:All Recovery Meeting
DESCRIPTION:
URL:https://atoministries.org/event/all-recovery-meeting/2026-05-06/
LOCATION:711 Pine St S Waconia\, Minnesota 55387\, 711 Pine St S\, Waconia\, MN\, 55387\, United States
END:VEVENT
BEGIN:VEVENT
DTSTART;TZID=America/Chicago:20260513T190000
DTEND;TZID=America/Chicago:20260513T200000
DTSTAMP:20260421T045453
CREATED:20241204T190714Z
LAST-MODIFIED:20241204T190714Z
UID:10001561-1778698800-1778702400@atoministries.org
SUMMARY:All Recovery Meeting
DESCRIPTION:
URL:https://atoministries.org/event/all-recovery-meeting/2026-05-13/
LOCATION:711 Pine St S Waconia\, Minnesota 55387\, 711 Pine St S\, Waconia\, MN\, 55387\, United States
END:VEVENT
BEGIN:VEVENT
DTSTART;TZID=America/Chicago:20260520T190000
DTEND;TZID=America/Chicago:20260520T200000
DTSTAMP:20260421T045453
CREATED:20241204T190714Z
LAST-MODIFIED:20241204T190714Z
UID:10001562-1779303600-1779307200@atoministries.org
SUMMARY:All Recovery Meeting
DESCRIPTION:
URL:https://atoministries.org/event/all-recovery-meeting/2026-05-20/
LOCATION:711 Pine St S Waconia\, Minnesota 55387\, 711 Pine St S\, Waconia\, MN\, 55387\, United States
END:VEVENT
BEGIN:VEVENT
DTSTART;TZID=America/Chicago:20260527T190000
DTEND;TZID=America/Chicago:20260527T200000
DTSTAMP:20260421T045453
CREATED:20241204T190714Z
LAST-MODIFIED:20241204T190714Z
UID:10001563-1779908400-1779912000@atoministries.org
SUMMARY:All Recovery Meeting
DESCRIPTION:
URL:https://atoministries.org/event/all-recovery-meeting/2026-05-27/
LOCATION:711 Pine St S Waconia\, Minnesota 55387\, 711 Pine St S\, Waconia\, MN\, 55387\, United States
END:VEVENT
BEGIN:VEVENT
DTSTART;TZID=America/Chicago:20260603T190000
DTEND;TZID=America/Chicago:20260603T200000
DTSTAMP:20260421T045453
CREATED:20241204T190714Z
LAST-MODIFIED:20241204T190714Z
UID:10001564-1780513200-1780516800@atoministries.org
SUMMARY:All Recovery Meeting
DESCRIPTION:
URL:https://atoministries.org/event/all-recovery-meeting/2026-06-03/
LOCATION:711 Pine St S Waconia\, Minnesota 55387\, 711 Pine St S\, Waconia\, MN\, 55387\, United States
END:VEVENT
BEGIN:VEVENT
DTSTART;TZID=America/Chicago:20260610T190000
DTEND;TZID=America/Chicago:20260610T200000
DTSTAMP:20260421T045453
CREATED:20241204T190714Z
LAST-MODIFIED:20241204T190714Z
UID:10001565-1781118000-1781121600@atoministries.org
SUMMARY:All Recovery Meeting
DESCRIPTION:
URL:https://atoministries.org/event/all-recovery-meeting/2026-06-10/
LOCATION:711 Pine St S Waconia\, Minnesota 55387\, 711 Pine St S\, Waconia\, MN\, 55387\, United States
END:VEVENT
BEGIN:VEVENT
DTSTART;TZID=America/Chicago:20260617T190000
DTEND;TZID=America/Chicago:20260617T200000
DTSTAMP:20260421T045453
CREATED:20241204T190714Z
LAST-MODIFIED:20241204T190714Z
UID:10001566-1781722800-1781726400@atoministries.org
SUMMARY:All Recovery Meeting
DESCRIPTION:
URL:https://atoministries.org/event/all-recovery-meeting/2026-06-17/
LOCATION:711 Pine St S Waconia\, Minnesota 55387\, 711 Pine St S\, Waconia\, MN\, 55387\, United States
END:VEVENT
BEGIN:VEVENT
DTSTART;TZID=America/Chicago:20260624T190000
DTEND;TZID=America/Chicago:20260624T200000
DTSTAMP:20260421T045454
CREATED:20241204T190714Z
LAST-MODIFIED:20241204T190714Z
UID:10001567-1782327600-1782331200@atoministries.org
SUMMARY:All Recovery Meeting
DESCRIPTION:
URL:https://atoministries.org/event/all-recovery-meeting/2026-06-24/
LOCATION:711 Pine St S Waconia\, Minnesota 55387\, 711 Pine St S\, Waconia\, MN\, 55387\, United States
END:VEVENT
BEGIN:VEVENT
DTSTART;TZID=America/Chicago:20260701T190000
DTEND;TZID=America/Chicago:20260701T200000
DTSTAMP:20260421T045454
CREATED:20241204T190714Z
LAST-MODIFIED:20241204T190714Z
UID:10001568-1782932400-1782936000@atoministries.org
SUMMARY:All Recovery Meeting
DESCRIPTION:
URL:https://atoministries.org/event/all-recovery-meeting/2026-07-01/
LOCATION:711 Pine St S Waconia\, Minnesota 55387\, 711 Pine St S\, Waconia\, MN\, 55387\, United States
END:VEVENT
BEGIN:VEVENT
DTSTART;TZID=America/Chicago:20260708T190000
DTEND;TZID=America/Chicago:20260708T200000
DTSTAMP:20260421T045454
CREATED:20241204T190714Z
LAST-MODIFIED:20241204T190714Z
UID:10001569-1783537200-1783540800@atoministries.org
SUMMARY:All Recovery Meeting
DESCRIPTION:
URL:https://atoministries.org/event/all-recovery-meeting/2026-07-08/
LOCATION:711 Pine St S Waconia\, Minnesota 55387\, 711 Pine St S\, Waconia\, MN\, 55387\, United States
END:VEVENT
BEGIN:VEVENT
DTSTART;TZID=America/Chicago:20260715T190000
DTEND;TZID=America/Chicago:20260715T200000
DTSTAMP:20260421T045454
CREATED:20241204T190714Z
LAST-MODIFIED:20241204T190714Z
UID:10001570-1784142000-1784145600@atoministries.org
SUMMARY:All Recovery Meeting
DESCRIPTION:
URL:https://atoministries.org/event/all-recovery-meeting/2026-07-15/
LOCATION:711 Pine St S Waconia\, Minnesota 55387\, 711 Pine St S\, Waconia\, MN\, 55387\, United States
END:VEVENT
BEGIN:VEVENT
DTSTART;TZID=America/Chicago:20260722T190000
DTEND;TZID=America/Chicago:20260722T200000
DTSTAMP:20260421T045454
CREATED:20241204T190714Z
LAST-MODIFIED:20241204T190714Z
UID:10001571-1784746800-1784750400@atoministries.org
SUMMARY:All Recovery Meeting
DESCRIPTION:
URL:https://atoministries.org/event/all-recovery-meeting/2026-07-22/
LOCATION:711 Pine St S Waconia\, Minnesota 55387\, 711 Pine St S\, Waconia\, MN\, 55387\, United States
END:VEVENT
BEGIN:VEVENT
DTSTART;TZID=America/Chicago:20260729T190000
DTEND;TZID=America/Chicago:20260729T200000
DTSTAMP:20260421T045454
CREATED:20241204T190714Z
LAST-MODIFIED:20241204T190714Z
UID:10001572-1785351600-1785355200@atoministries.org
SUMMARY:All Recovery Meeting
DESCRIPTION:
URL:https://atoministries.org/event/all-recovery-meeting/2026-07-29/
LOCATION:711 Pine St S Waconia\, Minnesota 55387\, 711 Pine St S\, Waconia\, MN\, 55387\, United States
END:VEVENT
BEGIN:VEVENT
DTSTART;TZID=America/Chicago:20260805T190000
DTEND;TZID=America/Chicago:20260805T200000
DTSTAMP:20260421T045454
CREATED:20241204T190714Z
LAST-MODIFIED:20241204T190714Z
UID:10001573-1785956400-1785960000@atoministries.org
SUMMARY:All Recovery Meeting
DESCRIPTION:
URL:https://atoministries.org/event/all-recovery-meeting/2026-08-05/
LOCATION:711 Pine St S Waconia\, Minnesota 55387\, 711 Pine St S\, Waconia\, MN\, 55387\, United States
END:VEVENT
BEGIN:VEVENT
DTSTART;TZID=America/Chicago:20260812T190000
DTEND;TZID=America/Chicago:20260812T200000
DTSTAMP:20260421T045454
CREATED:20241204T190714Z
LAST-MODIFIED:20241204T190714Z
UID:10001574-1786561200-1786564800@atoministries.org
SUMMARY:All Recovery Meeting
DESCRIPTION:
URL:https://atoministries.org/event/all-recovery-meeting/2026-08-12/
LOCATION:711 Pine St S Waconia\, Minnesota 55387\, 711 Pine St S\, Waconia\, MN\, 55387\, United States
END:VEVENT
BEGIN:VEVENT
DTSTART;TZID=America/Chicago:20260819T190000
DTEND;TZID=America/Chicago:20260819T200000
DTSTAMP:20260421T045454
CREATED:20241204T190714Z
LAST-MODIFIED:20241204T190714Z
UID:10001575-1787166000-1787169600@atoministries.org
SUMMARY:All Recovery Meeting
DESCRIPTION:
URL:https://atoministries.org/event/all-recovery-meeting/2026-08-19/
LOCATION:711 Pine St S Waconia\, Minnesota 55387\, 711 Pine St S\, Waconia\, MN\, 55387\, United States
END:VEVENT
BEGIN:VEVENT
DTSTART;TZID=America/Chicago:20260826T190000
DTEND;TZID=America/Chicago:20260826T200000
DTSTAMP:20260421T045454
CREATED:20241204T190714Z
LAST-MODIFIED:20241204T190714Z
UID:10001576-1787770800-1787774400@atoministries.org
SUMMARY:All Recovery Meeting
DESCRIPTION:
URL:https://atoministries.org/event/all-recovery-meeting/2026-08-26/
LOCATION:711 Pine St S Waconia\, Minnesota 55387\, 711 Pine St S\, Waconia\, MN\, 55387\, United States
END:VEVENT
BEGIN:VEVENT
DTSTART;TZID=America/Chicago:20260902T190000
DTEND;TZID=America/Chicago:20260902T200000
DTSTAMP:20260421T045454
CREATED:20241204T190714Z
LAST-MODIFIED:20241204T190714Z
UID:10001577-1788375600-1788379200@atoministries.org
SUMMARY:All Recovery Meeting
DESCRIPTION:
URL:https://atoministries.org/event/all-recovery-meeting/2026-09-02/
LOCATION:711 Pine St S Waconia\, Minnesota 55387\, 711 Pine St S\, Waconia\, MN\, 55387\, United States
END:VEVENT
BEGIN:VEVENT
DTSTART;TZID=America/Chicago:20260909T190000
DTEND;TZID=America/Chicago:20260909T200000
DTSTAMP:20260421T045454
CREATED:20241204T190714Z
LAST-MODIFIED:20241204T190714Z
UID:10001578-1788980400-1788984000@atoministries.org
SUMMARY:All Recovery Meeting
DESCRIPTION:
URL:https://atoministries.org/event/all-recovery-meeting/2026-09-09/
LOCATION:711 Pine St S Waconia\, Minnesota 55387\, 711 Pine St S\, Waconia\, MN\, 55387\, United States
END:VEVENT
BEGIN:VEVENT
DTSTART;TZID=America/Chicago:20260916T190000
DTEND;TZID=America/Chicago:20260916T200000
DTSTAMP:20260421T045454
CREATED:20241204T190714Z
LAST-MODIFIED:20241204T190714Z
UID:10001579-1789585200-1789588800@atoministries.org
SUMMARY:All Recovery Meeting
DESCRIPTION:
URL:https://atoministries.org/event/all-recovery-meeting/2026-09-16/
LOCATION:711 Pine St S Waconia\, Minnesota 55387\, 711 Pine St S\, Waconia\, MN\, 55387\, United States
END:VEVENT
BEGIN:VEVENT
DTSTART;TZID=America/Chicago:20260923T190000
DTEND;TZID=America/Chicago:20260923T200000
DTSTAMP:20260421T045454
CREATED:20241204T190714Z
LAST-MODIFIED:20241204T190714Z
UID:10001580-1790190000-1790193600@atoministries.org
SUMMARY:All Recovery Meeting
DESCRIPTION:
URL:https://atoministries.org/event/all-recovery-meeting/2026-09-23/
LOCATION:711 Pine St S Waconia\, Minnesota 55387\, 711 Pine St S\, Waconia\, MN\, 55387\, United States
END:VEVENT
BEGIN:VEVENT
DTSTART;TZID=America/Chicago:20260930T190000
DTEND;TZID=America/Chicago:20260930T200000
DTSTAMP:20260421T045454
CREATED:20241204T190714Z
LAST-MODIFIED:20241204T190714Z
UID:10001581-1790794800-1790798400@atoministries.org
SUMMARY:All Recovery Meeting
DESCRIPTION:
URL:https://atoministries.org/event/all-recovery-meeting/2026-09-30/
LOCATION:711 Pine St S Waconia\, Minnesota 55387\, 711 Pine St S\, Waconia\, MN\, 55387\, United States
END:VEVENT
BEGIN:VEVENT
DTSTART;TZID=America/Chicago:20261007T190000
DTEND;TZID=America/Chicago:20261007T200000
DTSTAMP:20260421T045454
CREATED:20241204T190714Z
LAST-MODIFIED:20241204T190714Z
UID:10001582-1791399600-1791403200@atoministries.org
SUMMARY:All Recovery Meeting
DESCRIPTION:
URL:https://atoministries.org/event/all-recovery-meeting/2026-10-07/
LOCATION:711 Pine St S Waconia\, Minnesota 55387\, 711 Pine St S\, Waconia\, MN\, 55387\, United States
END:VEVENT
BEGIN:VEVENT
DTSTART;TZID=America/Chicago:20261014T190000
DTEND;TZID=America/Chicago:20261014T200000
DTSTAMP:20260421T045454
CREATED:20241204T190714Z
LAST-MODIFIED:20241204T190714Z
UID:10001583-1792004400-1792008000@atoministries.org
SUMMARY:All Recovery Meeting
DESCRIPTION:
URL:https://atoministries.org/event/all-recovery-meeting/2026-10-14/
LOCATION:711 Pine St S Waconia\, Minnesota 55387\, 711 Pine St S\, Waconia\, MN\, 55387\, United States
END:VEVENT
BEGIN:VEVENT
DTSTART;TZID=America/Chicago:20261021T190000
DTEND;TZID=America/Chicago:20261021T200000
DTSTAMP:20260421T045454
CREATED:20241204T190714Z
LAST-MODIFIED:20241204T190714Z
UID:10001584-1792609200-1792612800@atoministries.org
SUMMARY:All Recovery Meeting
DESCRIPTION:
URL:https://atoministries.org/event/all-recovery-meeting/2026-10-21/
LOCATION:711 Pine St S Waconia\, Minnesota 55387\, 711 Pine St S\, Waconia\, MN\, 55387\, United States
END:VEVENT
BEGIN:VEVENT
DTSTART;TZID=America/Chicago:20261028T190000
DTEND;TZID=America/Chicago:20261028T200000
DTSTAMP:20260421T045454
CREATED:20241204T190714Z
LAST-MODIFIED:20241204T190714Z
UID:10001585-1793214000-1793217600@atoministries.org
SUMMARY:All Recovery Meeting
DESCRIPTION:
URL:https://atoministries.org/event/all-recovery-meeting/2026-10-28/
LOCATION:711 Pine St S Waconia\, Minnesota 55387\, 711 Pine St S\, Waconia\, MN\, 55387\, United States
END:VEVENT
BEGIN:VEVENT
DTSTART;TZID=America/Chicago:20261104T190000
DTEND;TZID=America/Chicago:20261104T200000
DTSTAMP:20260421T045454
CREATED:20241204T190714Z
LAST-MODIFIED:20241204T190714Z
UID:10001586-1793818800-1793822400@atoministries.org
SUMMARY:All Recovery Meeting
DESCRIPTION:
URL:https://atoministries.org/event/all-recovery-meeting/2026-11-04/
LOCATION:711 Pine St S Waconia\, Minnesota 55387\, 711 Pine St S\, Waconia\, MN\, 55387\, United States
END:VEVENT
BEGIN:VEVENT
DTSTART;TZID=America/Chicago:20261111T190000
DTEND;TZID=America/Chicago:20261111T200000
DTSTAMP:20260421T045454
CREATED:20241204T190714Z
LAST-MODIFIED:20241204T190714Z
UID:10001587-1794423600-1794427200@atoministries.org
SUMMARY:All Recovery Meeting
DESCRIPTION:
URL:https://atoministries.org/event/all-recovery-meeting/2026-11-11/
LOCATION:711 Pine St S Waconia\, Minnesota 55387\, 711 Pine St S\, Waconia\, MN\, 55387\, United States
END:VEVENT
END:VCALENDAR