BEGIN:VCALENDAR
VERSION:2.0
PRODID:-//Against the Odds Recovery and Reentry - ECPv6.15.17.1//NONSGML v1.0//EN
CALSCALE:GREGORIAN
METHOD:PUBLISH
X-WR-CALNAME:Against the Odds Recovery and Reentry
X-ORIGINAL-URL:https://atoministries.org
X-WR-CALDESC:Events for Against the Odds Recovery and Reentry
REFRESH-INTERVAL;VALUE=DURATION:PT1H
X-Robots-Tag:noindex
X-PUBLISHED-TTL:PT1H
BEGIN:VTIMEZONE
TZID:America/Chicago
BEGIN:DAYLIGHT
TZOFFSETFROM:-0600
TZOFFSETTO:-0500
TZNAME:CDT
DTSTART:20250309T080000
END:DAYLIGHT
BEGIN:STANDARD
TZOFFSETFROM:-0500
TZOFFSETTO:-0600
TZNAME:CST
DTSTART:20251102T070000
END:STANDARD
BEGIN:DAYLIGHT
TZOFFSETFROM:-0600
TZOFFSETTO:-0500
TZNAME:CDT
DTSTART:20260308T080000
END:DAYLIGHT
BEGIN:STANDARD
TZOFFSETFROM:-0500
TZOFFSETTO:-0600
TZNAME:CST
DTSTART:20261101T070000
END:STANDARD
BEGIN:DAYLIGHT
TZOFFSETFROM:-0600
TZOFFSETTO:-0500
TZNAME:CDT
DTSTART:20270314T080000
END:DAYLIGHT
BEGIN:STANDARD
TZOFFSETFROM:-0500
TZOFFSETTO:-0600
TZNAME:CST
DTSTART:20271107T070000
END:STANDARD
END:VTIMEZONE
BEGIN:VEVENT
DTSTART;TZID=America/Chicago:20260423T180000
DTEND;TZID=America/Chicago:20260423T200000
DTSTAMP:20260421T045538
CREATED:20240908T215729Z
LAST-MODIFIED:20240908T215730Z
UID:10001310-1776967200-1776974400@atoministries.org
SUMMARY:New Creation Recovery Meeting - Chaska
DESCRIPTION:
URL:https://atoministries.org/event/new-creation-recovery-meeting-2-2/2026-04-23/
LOCATION:207 N Chestnut St.\, 207 N Chestnut St.\, Chaska\, MN\, United States
END:VEVENT
BEGIN:VEVENT
DTSTART;TZID=America/Chicago:20260430T180000
DTEND;TZID=America/Chicago:20260430T200000
DTSTAMP:20260421T045538
CREATED:20240908T215729Z
LAST-MODIFIED:20240908T215730Z
UID:10001311-1777572000-1777579200@atoministries.org
SUMMARY:New Creation Recovery Meeting - Chaska
DESCRIPTION:
URL:https://atoministries.org/event/new-creation-recovery-meeting-2-2/2026-04-30/
LOCATION:207 N Chestnut St.\, 207 N Chestnut St.\, Chaska\, MN\, United States
END:VEVENT
BEGIN:VEVENT
DTSTART;TZID=America/Chicago:20260507T180000
DTEND;TZID=America/Chicago:20260507T200000
DTSTAMP:20260421T045538
CREATED:20240908T215729Z
LAST-MODIFIED:20240908T215730Z
UID:10001312-1778176800-1778184000@atoministries.org
SUMMARY:New Creation Recovery Meeting - Chaska
DESCRIPTION:
URL:https://atoministries.org/event/new-creation-recovery-meeting-2-2/2026-05-07/
LOCATION:207 N Chestnut St.\, 207 N Chestnut St.\, Chaska\, MN\, United States
END:VEVENT
BEGIN:VEVENT
DTSTART;TZID=America/Chicago:20260514T180000
DTEND;TZID=America/Chicago:20260514T200000
DTSTAMP:20260421T045538
CREATED:20240908T215729Z
LAST-MODIFIED:20240908T215730Z
UID:10001313-1778781600-1778788800@atoministries.org
SUMMARY:New Creation Recovery Meeting - Chaska
DESCRIPTION:
URL:https://atoministries.org/event/new-creation-recovery-meeting-2-2/2026-05-14/
LOCATION:207 N Chestnut St.\, 207 N Chestnut St.\, Chaska\, MN\, United States
END:VEVENT
BEGIN:VEVENT
DTSTART;TZID=America/Chicago:20260521T180000
DTEND;TZID=America/Chicago:20260521T200000
DTSTAMP:20260421T045538
CREATED:20240908T215729Z
LAST-MODIFIED:20240908T215730Z
UID:10001314-1779386400-1779393600@atoministries.org
SUMMARY:New Creation Recovery Meeting - Chaska
DESCRIPTION:
URL:https://atoministries.org/event/new-creation-recovery-meeting-2-2/2026-05-21/
LOCATION:207 N Chestnut St.\, 207 N Chestnut St.\, Chaska\, MN\, United States
END:VEVENT
BEGIN:VEVENT
DTSTART;TZID=America/Chicago:20260528T180000
DTEND;TZID=America/Chicago:20260528T200000
DTSTAMP:20260421T045538
CREATED:20240908T215729Z
LAST-MODIFIED:20240908T215730Z
UID:10001315-1779991200-1779998400@atoministries.org
SUMMARY:New Creation Recovery Meeting - Chaska
DESCRIPTION:
URL:https://atoministries.org/event/new-creation-recovery-meeting-2-2/2026-05-28/
LOCATION:207 N Chestnut St.\, 207 N Chestnut St.\, Chaska\, MN\, United States
END:VEVENT
BEGIN:VEVENT
DTSTART;TZID=America/Chicago:20260604T180000
DTEND;TZID=America/Chicago:20260604T200000
DTSTAMP:20260421T045538
CREATED:20240908T215729Z
LAST-MODIFIED:20240908T215730Z
UID:10001316-1780596000-1780603200@atoministries.org
SUMMARY:New Creation Recovery Meeting - Chaska
DESCRIPTION:
URL:https://atoministries.org/event/new-creation-recovery-meeting-2-2/2026-06-04/
LOCATION:207 N Chestnut St.\, 207 N Chestnut St.\, Chaska\, MN\, United States
END:VEVENT
BEGIN:VEVENT
DTSTART;TZID=America/Chicago:20260611T180000
DTEND;TZID=America/Chicago:20260611T200000
DTSTAMP:20260421T045538
CREATED:20240908T215729Z
LAST-MODIFIED:20240908T215730Z
UID:10001317-1781200800-1781208000@atoministries.org
SUMMARY:New Creation Recovery Meeting - Chaska
DESCRIPTION:
URL:https://atoministries.org/event/new-creation-recovery-meeting-2-2/2026-06-11/
LOCATION:207 N Chestnut St.\, 207 N Chestnut St.\, Chaska\, MN\, United States
END:VEVENT
BEGIN:VEVENT
DTSTART;TZID=America/Chicago:20260618T180000
DTEND;TZID=America/Chicago:20260618T200000
DTSTAMP:20260421T045538
CREATED:20240908T215729Z
LAST-MODIFIED:20240908T215730Z
UID:10001318-1781805600-1781812800@atoministries.org
SUMMARY:New Creation Recovery Meeting - Chaska
DESCRIPTION:
URL:https://atoministries.org/event/new-creation-recovery-meeting-2-2/2026-06-18/
LOCATION:207 N Chestnut St.\, 207 N Chestnut St.\, Chaska\, MN\, United States
END:VEVENT
BEGIN:VEVENT
DTSTART;TZID=America/Chicago:20260625T180000
DTEND;TZID=America/Chicago:20260625T200000
DTSTAMP:20260421T045538
CREATED:20240908T215729Z
LAST-MODIFIED:20240908T215730Z
UID:10001319-1782410400-1782417600@atoministries.org
SUMMARY:New Creation Recovery Meeting - Chaska
DESCRIPTION:
URL:https://atoministries.org/event/new-creation-recovery-meeting-2-2/2026-06-25/
LOCATION:207 N Chestnut St.\, 207 N Chestnut St.\, Chaska\, MN\, United States
END:VEVENT
BEGIN:VEVENT
DTSTART;TZID=America/Chicago:20260702T180000
DTEND;TZID=America/Chicago:20260702T200000
DTSTAMP:20260421T045538
CREATED:20240908T215729Z
LAST-MODIFIED:20240908T215730Z
UID:10001320-1783015200-1783022400@atoministries.org
SUMMARY:New Creation Recovery Meeting - Chaska
DESCRIPTION:
URL:https://atoministries.org/event/new-creation-recovery-meeting-2-2/2026-07-02/
LOCATION:207 N Chestnut St.\, 207 N Chestnut St.\, Chaska\, MN\, United States
END:VEVENT
BEGIN:VEVENT
DTSTART;TZID=America/Chicago:20260709T180000
DTEND;TZID=America/Chicago:20260709T200000
DTSTAMP:20260421T045538
CREATED:20240908T215729Z
LAST-MODIFIED:20240908T215730Z
UID:10001321-1783620000-1783627200@atoministries.org
SUMMARY:New Creation Recovery Meeting - Chaska
DESCRIPTION:
URL:https://atoministries.org/event/new-creation-recovery-meeting-2-2/2026-07-09/
LOCATION:207 N Chestnut St.\, 207 N Chestnut St.\, Chaska\, MN\, United States
END:VEVENT
BEGIN:VEVENT
DTSTART;TZID=America/Chicago:20260716T180000
DTEND;TZID=America/Chicago:20260716T200000
DTSTAMP:20260421T045538
CREATED:20240908T215729Z
LAST-MODIFIED:20240908T215730Z
UID:10001322-1784224800-1784232000@atoministries.org
SUMMARY:New Creation Recovery Meeting - Chaska
DESCRIPTION:
URL:https://atoministries.org/event/new-creation-recovery-meeting-2-2/2026-07-16/
LOCATION:207 N Chestnut St.\, 207 N Chestnut St.\, Chaska\, MN\, United States
END:VEVENT
BEGIN:VEVENT
DTSTART;TZID=America/Chicago:20260723T180000
DTEND;TZID=America/Chicago:20260723T200000
DTSTAMP:20260421T045538
CREATED:20240908T215729Z
LAST-MODIFIED:20240908T215730Z
UID:10001323-1784829600-1784836800@atoministries.org
SUMMARY:New Creation Recovery Meeting - Chaska
DESCRIPTION:
URL:https://atoministries.org/event/new-creation-recovery-meeting-2-2/2026-07-23/
LOCATION:207 N Chestnut St.\, 207 N Chestnut St.\, Chaska\, MN\, United States
END:VEVENT
BEGIN:VEVENT
DTSTART;TZID=America/Chicago:20260730T180000
DTEND;TZID=America/Chicago:20260730T200000
DTSTAMP:20260421T045538
CREATED:20240908T215729Z
LAST-MODIFIED:20240908T215730Z
UID:10001324-1785434400-1785441600@atoministries.org
SUMMARY:New Creation Recovery Meeting - Chaska
DESCRIPTION:
URL:https://atoministries.org/event/new-creation-recovery-meeting-2-2/2026-07-30/
LOCATION:207 N Chestnut St.\, 207 N Chestnut St.\, Chaska\, MN\, United States
END:VEVENT
BEGIN:VEVENT
DTSTART;TZID=America/Chicago:20260806T180000
DTEND;TZID=America/Chicago:20260806T200000
DTSTAMP:20260421T045538
CREATED:20240908T215729Z
LAST-MODIFIED:20240908T215730Z
UID:10001325-1786039200-1786046400@atoministries.org
SUMMARY:New Creation Recovery Meeting - Chaska
DESCRIPTION:
URL:https://atoministries.org/event/new-creation-recovery-meeting-2-2/2026-08-06/
LOCATION:207 N Chestnut St.\, 207 N Chestnut St.\, Chaska\, MN\, United States
END:VEVENT
BEGIN:VEVENT
DTSTART;TZID=America/Chicago:20260813T180000
DTEND;TZID=America/Chicago:20260813T200000
DTSTAMP:20260421T045538
CREATED:20240908T215729Z
LAST-MODIFIED:20240908T215730Z
UID:10001326-1786644000-1786651200@atoministries.org
SUMMARY:New Creation Recovery Meeting - Chaska
DESCRIPTION:
URL:https://atoministries.org/event/new-creation-recovery-meeting-2-2/2026-08-13/
LOCATION:207 N Chestnut St.\, 207 N Chestnut St.\, Chaska\, MN\, United States
END:VEVENT
BEGIN:VEVENT
DTSTART;TZID=America/Chicago:20260820T180000
DTEND;TZID=America/Chicago:20260820T200000
DTSTAMP:20260421T045538
CREATED:20240908T215729Z
LAST-MODIFIED:20240908T215730Z
UID:10001327-1787248800-1787256000@atoministries.org
SUMMARY:New Creation Recovery Meeting - Chaska
DESCRIPTION:
URL:https://atoministries.org/event/new-creation-recovery-meeting-2-2/2026-08-20/
LOCATION:207 N Chestnut St.\, 207 N Chestnut St.\, Chaska\, MN\, United States
END:VEVENT
BEGIN:VEVENT
DTSTART;TZID=America/Chicago:20260827T180000
DTEND;TZID=America/Chicago:20260827T200000
DTSTAMP:20260421T045538
CREATED:20240908T215729Z
LAST-MODIFIED:20240908T215730Z
UID:10001328-1787853600-1787860800@atoministries.org
SUMMARY:New Creation Recovery Meeting - Chaska
DESCRIPTION:
URL:https://atoministries.org/event/new-creation-recovery-meeting-2-2/2026-08-27/
LOCATION:207 N Chestnut St.\, 207 N Chestnut St.\, Chaska\, MN\, United States
END:VEVENT
BEGIN:VEVENT
DTSTART;TZID=America/Chicago:20260903T180000
DTEND;TZID=America/Chicago:20260903T200000
DTSTAMP:20260421T045538
CREATED:20240908T215729Z
LAST-MODIFIED:20240908T215730Z
UID:10001329-1788458400-1788465600@atoministries.org
SUMMARY:New Creation Recovery Meeting - Chaska
DESCRIPTION:
URL:https://atoministries.org/event/new-creation-recovery-meeting-2-2/2026-09-03/
LOCATION:207 N Chestnut St.\, 207 N Chestnut St.\, Chaska\, MN\, United States
END:VEVENT
BEGIN:VEVENT
DTSTART;TZID=America/Chicago:20260910T180000
DTEND;TZID=America/Chicago:20260910T200000
DTSTAMP:20260421T045538
CREATED:20240908T215729Z
LAST-MODIFIED:20240908T215730Z
UID:10001330-1789063200-1789070400@atoministries.org
SUMMARY:New Creation Recovery Meeting - Chaska
DESCRIPTION:
URL:https://atoministries.org/event/new-creation-recovery-meeting-2-2/2026-09-10/
LOCATION:207 N Chestnut St.\, 207 N Chestnut St.\, Chaska\, MN\, United States
END:VEVENT
BEGIN:VEVENT
DTSTART;TZID=America/Chicago:20260917T180000
DTEND;TZID=America/Chicago:20260917T200000
DTSTAMP:20260421T045538
CREATED:20240908T215729Z
LAST-MODIFIED:20240908T215730Z
UID:10001331-1789668000-1789675200@atoministries.org
SUMMARY:New Creation Recovery Meeting - Chaska
DESCRIPTION:
URL:https://atoministries.org/event/new-creation-recovery-meeting-2-2/2026-09-17/
LOCATION:207 N Chestnut St.\, 207 N Chestnut St.\, Chaska\, MN\, United States
END:VEVENT
BEGIN:VEVENT
DTSTART;TZID=America/Chicago:20260924T180000
DTEND;TZID=America/Chicago:20260924T200000
DTSTAMP:20260421T045538
CREATED:20240908T215729Z
LAST-MODIFIED:20240908T215730Z
UID:10001332-1790272800-1790280000@atoministries.org
SUMMARY:New Creation Recovery Meeting - Chaska
DESCRIPTION:
URL:https://atoministries.org/event/new-creation-recovery-meeting-2-2/2026-09-24/
LOCATION:207 N Chestnut St.\, 207 N Chestnut St.\, Chaska\, MN\, United States
END:VEVENT
BEGIN:VEVENT
DTSTART;TZID=America/Chicago:20261001T180000
DTEND;TZID=America/Chicago:20261001T200000
DTSTAMP:20260421T045538
CREATED:20240908T215729Z
LAST-MODIFIED:20240908T215730Z
UID:10001333-1790877600-1790884800@atoministries.org
SUMMARY:New Creation Recovery Meeting - Chaska
DESCRIPTION:
URL:https://atoministries.org/event/new-creation-recovery-meeting-2-2/2026-10-01/
LOCATION:207 N Chestnut St.\, 207 N Chestnut St.\, Chaska\, MN\, United States
END:VEVENT
BEGIN:VEVENT
DTSTART;TZID=America/Chicago:20261008T180000
DTEND;TZID=America/Chicago:20261008T200000
DTSTAMP:20260421T045538
CREATED:20240908T215729Z
LAST-MODIFIED:20240908T215730Z
UID:10001334-1791482400-1791489600@atoministries.org
SUMMARY:New Creation Recovery Meeting - Chaska
DESCRIPTION:
URL:https://atoministries.org/event/new-creation-recovery-meeting-2-2/2026-10-08/
LOCATION:207 N Chestnut St.\, 207 N Chestnut St.\, Chaska\, MN\, United States
END:VEVENT
BEGIN:VEVENT
DTSTART;TZID=America/Chicago:20261015T180000
DTEND;TZID=America/Chicago:20261015T200000
DTSTAMP:20260421T045538
CREATED:20240908T215729Z
LAST-MODIFIED:20240908T215730Z
UID:10001335-1792087200-1792094400@atoministries.org
SUMMARY:New Creation Recovery Meeting - Chaska
DESCRIPTION:
URL:https://atoministries.org/event/new-creation-recovery-meeting-2-2/2026-10-15/
LOCATION:207 N Chestnut St.\, 207 N Chestnut St.\, Chaska\, MN\, United States
END:VEVENT
BEGIN:VEVENT
DTSTART;TZID=America/Chicago:20261022T180000
DTEND;TZID=America/Chicago:20261022T200000
DTSTAMP:20260421T045538
CREATED:20240908T215729Z
LAST-MODIFIED:20240908T215730Z
UID:10001336-1792692000-1792699200@atoministries.org
SUMMARY:New Creation Recovery Meeting - Chaska
DESCRIPTION:
URL:https://atoministries.org/event/new-creation-recovery-meeting-2-2/2026-10-22/
LOCATION:207 N Chestnut St.\, 207 N Chestnut St.\, Chaska\, MN\, United States
END:VEVENT
BEGIN:VEVENT
DTSTART;TZID=America/Chicago:20261029T180000
DTEND;TZID=America/Chicago:20261029T200000
DTSTAMP:20260421T045538
CREATED:20240908T215729Z
LAST-MODIFIED:20240908T215730Z
UID:10001337-1793296800-1793304000@atoministries.org
SUMMARY:New Creation Recovery Meeting - Chaska
DESCRIPTION:
URL:https://atoministries.org/event/new-creation-recovery-meeting-2-2/2026-10-29/
LOCATION:207 N Chestnut St.\, 207 N Chestnut St.\, Chaska\, MN\, United States
END:VEVENT
BEGIN:VEVENT
DTSTART;TZID=America/Chicago:20261105T180000
DTEND;TZID=America/Chicago:20261105T200000
DTSTAMP:20260421T045538
CREATED:20240908T215729Z
LAST-MODIFIED:20240908T215730Z
UID:10001338-1793901600-1793908800@atoministries.org
SUMMARY:New Creation Recovery Meeting - Chaska
DESCRIPTION:
URL:https://atoministries.org/event/new-creation-recovery-meeting-2-2/2026-11-05/
LOCATION:207 N Chestnut St.\, 207 N Chestnut St.\, Chaska\, MN\, United States
END:VEVENT
BEGIN:VEVENT
DTSTART;TZID=America/Chicago:20261112T180000
DTEND;TZID=America/Chicago:20261112T200000
DTSTAMP:20260421T045538
CREATED:20240908T215729Z
LAST-MODIFIED:20240908T215730Z
UID:10001339-1794506400-1794513600@atoministries.org
SUMMARY:New Creation Recovery Meeting - Chaska
DESCRIPTION:
URL:https://atoministries.org/event/new-creation-recovery-meeting-2-2/2026-11-12/
LOCATION:207 N Chestnut St.\, 207 N Chestnut St.\, Chaska\, MN\, United States
END:VEVENT
END:VCALENDAR