BEGIN:VCALENDAR
VERSION:2.0
PRODID:-//Against the Odds Recovery and Reentry - ECPv6.15.17.1//NONSGML v1.0//EN
CALSCALE:GREGORIAN
METHOD:PUBLISH
X-WR-CALNAME:Against the Odds Recovery and Reentry
X-ORIGINAL-URL:https://atoministries.org
X-WR-CALDESC:Events for Against the Odds Recovery and Reentry
REFRESH-INTERVAL;VALUE=DURATION:PT1H
X-Robots-Tag:noindex
X-PUBLISHED-TTL:PT1H
BEGIN:VTIMEZONE
TZID:America/Chicago
BEGIN:DAYLIGHT
TZOFFSETFROM:-0600
TZOFFSETTO:-0500
TZNAME:CDT
DTSTART:20250309T080000
END:DAYLIGHT
BEGIN:STANDARD
TZOFFSETFROM:-0500
TZOFFSETTO:-0600
TZNAME:CST
DTSTART:20251102T070000
END:STANDARD
BEGIN:DAYLIGHT
TZOFFSETFROM:-0600
TZOFFSETTO:-0500
TZNAME:CDT
DTSTART:20260308T080000
END:DAYLIGHT
BEGIN:STANDARD
TZOFFSETFROM:-0500
TZOFFSETTO:-0600
TZNAME:CST
DTSTART:20261101T070000
END:STANDARD
BEGIN:DAYLIGHT
TZOFFSETFROM:-0600
TZOFFSETTO:-0500
TZNAME:CDT
DTSTART:20270314T080000
END:DAYLIGHT
BEGIN:STANDARD
TZOFFSETFROM:-0500
TZOFFSETTO:-0600
TZNAME:CST
DTSTART:20271107T070000
END:STANDARD
BEGIN:DAYLIGHT
TZOFFSETFROM:-0600
TZOFFSETTO:-0500
TZNAME:CDT
DTSTART:20280312T080000
END:DAYLIGHT
BEGIN:STANDARD
TZOFFSETFROM:-0500
TZOFFSETTO:-0600
TZNAME:CST
DTSTART:20281105T070000
END:STANDARD
BEGIN:DAYLIGHT
TZOFFSETFROM:-0600
TZOFFSETTO:-0500
TZNAME:CDT
DTSTART:20290311T080000
END:DAYLIGHT
BEGIN:STANDARD
TZOFFSETFROM:-0500
TZOFFSETTO:-0600
TZNAME:CST
DTSTART:20291104T070000
END:STANDARD
END:VTIMEZONE
BEGIN:VEVENT
DTSTART;TZID=America/Chicago:20260425T183000
DTEND;TZID=America/Chicago:20260425T183000
DTSTAMP:20260421T045539
CREATED:20230410T134307Z
LAST-MODIFIED:20240605T022542Z
UID:10000037-1777141800-1777141800@atoministries.org
SUMMARY:New Creation Recovery Church - Westwood
DESCRIPTION:
URL:https://atoministries.org/event/new-creation-recovery-church/2026-04-25/
LOCATION:New Creation Recovery Church\, 3121 Westwood DR\, Excelsior\, MN\, 55331\, United States
END:VEVENT
BEGIN:VEVENT
DTSTART;TZID=America/Chicago:20260530T183000
DTEND;TZID=America/Chicago:20260530T183000
DTSTAMP:20260421T045539
CREATED:20230410T134307Z
LAST-MODIFIED:20240605T022542Z
UID:10000038-1780165800-1780165800@atoministries.org
SUMMARY:New Creation Recovery Church - Westwood
DESCRIPTION:
URL:https://atoministries.org/event/new-creation-recovery-church/2026-05-30/
LOCATION:New Creation Recovery Church\, 3121 Westwood DR\, Excelsior\, MN\, 55331\, United States
END:VEVENT
BEGIN:VEVENT
DTSTART;TZID=America/Chicago:20260627T183000
DTEND;TZID=America/Chicago:20260627T183000
DTSTAMP:20260421T045539
CREATED:20230410T134307Z
LAST-MODIFIED:20240605T022542Z
UID:10000039-1782585000-1782585000@atoministries.org
SUMMARY:New Creation Recovery Church - Westwood
DESCRIPTION:
URL:https://atoministries.org/event/new-creation-recovery-church/2026-06-27/
LOCATION:New Creation Recovery Church\, 3121 Westwood DR\, Excelsior\, MN\, 55331\, United States
END:VEVENT
BEGIN:VEVENT
DTSTART;TZID=America/Chicago:20260725T183000
DTEND;TZID=America/Chicago:20260725T183000
DTSTAMP:20260421T045539
CREATED:20230410T134307Z
LAST-MODIFIED:20240605T022542Z
UID:10000040-1785004200-1785004200@atoministries.org
SUMMARY:New Creation Recovery Church - Westwood
DESCRIPTION:
URL:https://atoministries.org/event/new-creation-recovery-church/2026-07-25/
LOCATION:New Creation Recovery Church\, 3121 Westwood DR\, Excelsior\, MN\, 55331\, United States
END:VEVENT
BEGIN:VEVENT
DTSTART;TZID=America/Chicago:20260829T183000
DTEND;TZID=America/Chicago:20260829T183000
DTSTAMP:20260421T045539
CREATED:20230410T134307Z
LAST-MODIFIED:20240605T022542Z
UID:10000041-1788028200-1788028200@atoministries.org
SUMMARY:New Creation Recovery Church - Westwood
DESCRIPTION:
URL:https://atoministries.org/event/new-creation-recovery-church/2026-08-29/
LOCATION:New Creation Recovery Church\, 3121 Westwood DR\, Excelsior\, MN\, 55331\, United States
END:VEVENT
BEGIN:VEVENT
DTSTART;TZID=America/Chicago:20260926T183000
DTEND;TZID=America/Chicago:20260926T183000
DTSTAMP:20260421T045539
CREATED:20230410T134307Z
LAST-MODIFIED:20240605T022542Z
UID:10000042-1790447400-1790447400@atoministries.org
SUMMARY:New Creation Recovery Church - Westwood
DESCRIPTION:
URL:https://atoministries.org/event/new-creation-recovery-church/2026-09-26/
LOCATION:New Creation Recovery Church\, 3121 Westwood DR\, Excelsior\, MN\, 55331\, United States
END:VEVENT
BEGIN:VEVENT
DTSTART;TZID=America/Chicago:20261031T183000
DTEND;TZID=America/Chicago:20261031T183000
DTSTAMP:20260421T045539
CREATED:20230410T134307Z
LAST-MODIFIED:20240605T022542Z
UID:10000043-1793471400-1793471400@atoministries.org
SUMMARY:New Creation Recovery Church - Westwood
DESCRIPTION:
URL:https://atoministries.org/event/new-creation-recovery-church/2026-10-31/
LOCATION:New Creation Recovery Church\, 3121 Westwood DR\, Excelsior\, MN\, 55331\, United States
END:VEVENT
BEGIN:VEVENT
DTSTART;TZID=America/Chicago:20261128T183000
DTEND;TZID=America/Chicago:20261128T183000
DTSTAMP:20260421T045539
CREATED:20230410T134307Z
LAST-MODIFIED:20240605T022542Z
UID:10000044-1795890600-1795890600@atoministries.org
SUMMARY:New Creation Recovery Church - Westwood
DESCRIPTION:
URL:https://atoministries.org/event/new-creation-recovery-church/2026-11-28/
LOCATION:New Creation Recovery Church\, 3121 Westwood DR\, Excelsior\, MN\, 55331\, United States
END:VEVENT
BEGIN:VEVENT
DTSTART;TZID=America/Chicago:20261226T183000
DTEND;TZID=America/Chicago:20261226T183000
DTSTAMP:20260421T045539
CREATED:20230410T134307Z
LAST-MODIFIED:20240605T022542Z
UID:10000045-1798309800-1798309800@atoministries.org
SUMMARY:New Creation Recovery Church - Westwood
DESCRIPTION:
URL:https://atoministries.org/event/new-creation-recovery-church/2026-12-26/
LOCATION:New Creation Recovery Church\, 3121 Westwood DR\, Excelsior\, MN\, 55331\, United States
END:VEVENT
BEGIN:VEVENT
DTSTART;TZID=America/Chicago:20270130T183000
DTEND;TZID=America/Chicago:20270130T183000
DTSTAMP:20260421T045539
CREATED:20230410T134307Z
LAST-MODIFIED:20240605T022542Z
UID:10000046-1801333800-1801333800@atoministries.org
SUMMARY:New Creation Recovery Church - Westwood
DESCRIPTION:
URL:https://atoministries.org/event/new-creation-recovery-church/2027-01-30/
LOCATION:New Creation Recovery Church\, 3121 Westwood DR\, Excelsior\, MN\, 55331\, United States
END:VEVENT
BEGIN:VEVENT
DTSTART;TZID=America/Chicago:20270227T183000
DTEND;TZID=America/Chicago:20270227T183000
DTSTAMP:20260421T045539
CREATED:20230410T134307Z
LAST-MODIFIED:20240605T022542Z
UID:10000047-1803753000-1803753000@atoministries.org
SUMMARY:New Creation Recovery Church - Westwood
DESCRIPTION:
URL:https://atoministries.org/event/new-creation-recovery-church/2027-02-27/
LOCATION:New Creation Recovery Church\, 3121 Westwood DR\, Excelsior\, MN\, 55331\, United States
END:VEVENT
BEGIN:VEVENT
DTSTART;TZID=America/Chicago:20270327T183000
DTEND;TZID=America/Chicago:20270327T183000
DTSTAMP:20260421T045539
CREATED:20230410T134307Z
LAST-MODIFIED:20240605T022542Z
UID:10000048-1806172200-1806172200@atoministries.org
SUMMARY:New Creation Recovery Church - Westwood
DESCRIPTION:
URL:https://atoministries.org/event/new-creation-recovery-church/2027-03-27/
LOCATION:New Creation Recovery Church\, 3121 Westwood DR\, Excelsior\, MN\, 55331\, United States
END:VEVENT
BEGIN:VEVENT
DTSTART;TZID=America/Chicago:20270424T183000
DTEND;TZID=America/Chicago:20270424T183000
DTSTAMP:20260421T045539
CREATED:20230410T134307Z
LAST-MODIFIED:20240605T022542Z
UID:10000049-1808591400-1808591400@atoministries.org
SUMMARY:New Creation Recovery Church - Westwood
DESCRIPTION:
URL:https://atoministries.org/event/new-creation-recovery-church/2027-04-24/
LOCATION:New Creation Recovery Church\, 3121 Westwood DR\, Excelsior\, MN\, 55331\, United States
END:VEVENT
BEGIN:VEVENT
DTSTART;TZID=America/Chicago:20270529T183000
DTEND;TZID=America/Chicago:20270529T183000
DTSTAMP:20260421T045539
CREATED:20230410T134307Z
LAST-MODIFIED:20240605T022542Z
UID:10000050-1811615400-1811615400@atoministries.org
SUMMARY:New Creation Recovery Church - Westwood
DESCRIPTION:
URL:https://atoministries.org/event/new-creation-recovery-church/2027-05-29/
LOCATION:New Creation Recovery Church\, 3121 Westwood DR\, Excelsior\, MN\, 55331\, United States
END:VEVENT
BEGIN:VEVENT
DTSTART;TZID=America/Chicago:20270626T183000
DTEND;TZID=America/Chicago:20270626T183000
DTSTAMP:20260421T045539
CREATED:20230410T134307Z
LAST-MODIFIED:20240605T022542Z
UID:10000051-1814034600-1814034600@atoministries.org
SUMMARY:New Creation Recovery Church - Westwood
DESCRIPTION:
URL:https://atoministries.org/event/new-creation-recovery-church/2027-06-26/
LOCATION:New Creation Recovery Church\, 3121 Westwood DR\, Excelsior\, MN\, 55331\, United States
END:VEVENT
BEGIN:VEVENT
DTSTART;TZID=America/Chicago:20270731T183000
DTEND;TZID=America/Chicago:20270731T183000
DTSTAMP:20260421T045539
CREATED:20230410T134307Z
LAST-MODIFIED:20240605T022542Z
UID:10000052-1817058600-1817058600@atoministries.org
SUMMARY:New Creation Recovery Church - Westwood
DESCRIPTION:
URL:https://atoministries.org/event/new-creation-recovery-church/2027-07-31/
LOCATION:New Creation Recovery Church\, 3121 Westwood DR\, Excelsior\, MN\, 55331\, United States
END:VEVENT
BEGIN:VEVENT
DTSTART;TZID=America/Chicago:20270828T183000
DTEND;TZID=America/Chicago:20270828T183000
DTSTAMP:20260421T045539
CREATED:20230410T134307Z
LAST-MODIFIED:20240605T022542Z
UID:10000053-1819477800-1819477800@atoministries.org
SUMMARY:New Creation Recovery Church - Westwood
DESCRIPTION:
URL:https://atoministries.org/event/new-creation-recovery-church/2027-08-28/
LOCATION:New Creation Recovery Church\, 3121 Westwood DR\, Excelsior\, MN\, 55331\, United States
END:VEVENT
BEGIN:VEVENT
DTSTART;TZID=America/Chicago:20270925T183000
DTEND;TZID=America/Chicago:20270925T183000
DTSTAMP:20260421T045539
CREATED:20230410T134307Z
LAST-MODIFIED:20240605T022542Z
UID:10000054-1821897000-1821897000@atoministries.org
SUMMARY:New Creation Recovery Church - Westwood
DESCRIPTION:
URL:https://atoministries.org/event/new-creation-recovery-church/2027-09-25/
LOCATION:New Creation Recovery Church\, 3121 Westwood DR\, Excelsior\, MN\, 55331\, United States
END:VEVENT
BEGIN:VEVENT
DTSTART;TZID=America/Chicago:20271030T183000
DTEND;TZID=America/Chicago:20271030T183000
DTSTAMP:20260421T045539
CREATED:20230410T134307Z
LAST-MODIFIED:20240605T022542Z
UID:10000055-1824921000-1824921000@atoministries.org
SUMMARY:New Creation Recovery Church - Westwood
DESCRIPTION:
URL:https://atoministries.org/event/new-creation-recovery-church/2027-10-30/
LOCATION:New Creation Recovery Church\, 3121 Westwood DR\, Excelsior\, MN\, 55331\, United States
END:VEVENT
BEGIN:VEVENT
DTSTART;TZID=America/Chicago:20271127T183000
DTEND;TZID=America/Chicago:20271127T183000
DTSTAMP:20260421T045539
CREATED:20230410T134307Z
LAST-MODIFIED:20240605T022542Z
UID:10000056-1827340200-1827340200@atoministries.org
SUMMARY:New Creation Recovery Church - Westwood
DESCRIPTION:
URL:https://atoministries.org/event/new-creation-recovery-church/2027-11-27/
LOCATION:New Creation Recovery Church\, 3121 Westwood DR\, Excelsior\, MN\, 55331\, United States
END:VEVENT
BEGIN:VEVENT
DTSTART;TZID=America/Chicago:20271225T183000
DTEND;TZID=America/Chicago:20271225T183000
DTSTAMP:20260421T045539
CREATED:20230410T134307Z
LAST-MODIFIED:20240605T022542Z
UID:10000057-1829759400-1829759400@atoministries.org
SUMMARY:New Creation Recovery Church - Westwood
DESCRIPTION:
URL:https://atoministries.org/event/new-creation-recovery-church/2027-12-25/
LOCATION:New Creation Recovery Church\, 3121 Westwood DR\, Excelsior\, MN\, 55331\, United States
END:VEVENT
BEGIN:VEVENT
DTSTART;TZID=America/Chicago:20280129T183000
DTEND;TZID=America/Chicago:20280129T183000
DTSTAMP:20260421T045539
CREATED:20230410T134307Z
LAST-MODIFIED:20240605T022542Z
UID:10000058-1832783400-1832783400@atoministries.org
SUMMARY:New Creation Recovery Church - Westwood
DESCRIPTION:
URL:https://atoministries.org/event/new-creation-recovery-church/2028-01-29/
LOCATION:New Creation Recovery Church\, 3121 Westwood DR\, Excelsior\, MN\, 55331\, United States
END:VEVENT
BEGIN:VEVENT
DTSTART;TZID=America/Chicago:20280226T183000
DTEND;TZID=America/Chicago:20280226T183000
DTSTAMP:20260421T045539
CREATED:20230410T134307Z
LAST-MODIFIED:20240605T022542Z
UID:10000059-1835202600-1835202600@atoministries.org
SUMMARY:New Creation Recovery Church - Westwood
DESCRIPTION:
URL:https://atoministries.org/event/new-creation-recovery-church/2028-02-26/
LOCATION:New Creation Recovery Church\, 3121 Westwood DR\, Excelsior\, MN\, 55331\, United States
END:VEVENT
BEGIN:VEVENT
DTSTART;TZID=America/Chicago:20280325T183000
DTEND;TZID=America/Chicago:20280325T183000
DTSTAMP:20260421T045539
CREATED:20230410T134307Z
LAST-MODIFIED:20240605T022542Z
UID:10000060-1837621800-1837621800@atoministries.org
SUMMARY:New Creation Recovery Church - Westwood
DESCRIPTION:
URL:https://atoministries.org/event/new-creation-recovery-church/2028-03-25/
LOCATION:New Creation Recovery Church\, 3121 Westwood DR\, Excelsior\, MN\, 55331\, United States
END:VEVENT
END:VCALENDAR